BEGIN:VCALENDAR
VERSION:2.0
PRODID:-//Folk Club Chalonnais - ECPv6.15.20//NONSGML v1.0//EN
CALSCALE:GREGORIAN
METHOD:PUBLISH
X-WR-CALNAME:Folk Club Chalonnais
X-ORIGINAL-URL:https://www.folkclubchalon.com
X-WR-CALDESC:Évènements pour Folk Club Chalonnais
REFRESH-INTERVAL;VALUE=DURATION:PT1H
X-Robots-Tag:noindex
X-PUBLISHED-TTL:PT1H
BEGIN:VTIMEZONE
TZID:Europe/Paris
BEGIN:DAYLIGHT
TZOFFSETFROM:+0100
TZOFFSETTO:+0200
TZNAME:CEST
DTSTART:20250330T010000
END:DAYLIGHT
BEGIN:STANDARD
TZOFFSETFROM:+0200
TZOFFSETTO:+0100
TZNAME:CET
DTSTART:20251026T010000
END:STANDARD
BEGIN:DAYLIGHT
TZOFFSETFROM:+0100
TZOFFSETTO:+0200
TZNAME:CEST
DTSTART:20260329T010000
END:DAYLIGHT
BEGIN:STANDARD
TZOFFSETFROM:+0200
TZOFFSETTO:+0100
TZNAME:CET
DTSTART:20261025T010000
END:STANDARD
BEGIN:DAYLIGHT
TZOFFSETFROM:+0100
TZOFFSETTO:+0200
TZNAME:CEST
DTSTART:20270328T010000
END:DAYLIGHT
BEGIN:STANDARD
TZOFFSETFROM:+0200
TZOFFSETTO:+0100
TZNAME:CET
DTSTART:20271031T010000
END:STANDARD
END:VTIMEZONE
BEGIN:VEVENT
DTSTART;TZID=Europe/Paris:20260221T080000
DTEND;TZID=Europe/Paris:20260221T170000
DTSTAMP:20260425T174220
CREATED:20260221T150421Z
LAST-MODIFIED:20260221T150421Z
UID:849-1771660800-1771693200@www.folkclubchalon.com
SUMMARY:Dates à venir
DESCRIPTION:Et quelques infos pour les dates danse à venir :\n– mardi 24 février\, petit bal \n– mardi 10 mars\, apprentissage danses des Flandres\, avec Julie Ducret (d’Arcadanse) \n– et samedi 28 mars\, notre petit bal de printemps\, dans notre salle rue de la Paix. \nInvitez tous vos amis !
URL:https://www.folkclubchalon.com/event/dates-a-venir/
CATEGORIES:Agenda public
END:VEVENT
END:VCALENDAR